BEGIN:VCALENDAR
VERSION:2.0
PRODID:-//Kirche Helbe-Notter//NONSGML kigkonsult.se iCalcreator 2.30.10//
CALSCALE:GREGORIAN
METHOD:PUBLISH
UID:040d5f10-eeab-46d1-a1b6-5a65937b871f
X-WR-CALNAME:iCagenda
X-WR-CALDESC:Event Management Extension for Joomla!
X-WR-RELCALID:3E26604A-50F4-4449-8B3E-E4F4932D05B5
X-WR-TIMEZONE:Europe/Berlin
BEGIN:VTIMEZONE
TZID:Europe/Berlin
BEGIN:STANDARD
TZNAME:CET
DTSTART:20251026T030000
TZOFFSETFROM:+0200
TZOFFSETTO:+0100
RDATE:20261025T030000
END:STANDARD
BEGIN:DAYLIGHT
TZNAME:CEST
DTSTART:20260329T020000
TZOFFSETFROM:+0100
TZOFFSETTO:+0200
RDATE:20270328T020000
END:DAYLIGHT
END:VTIMEZONE
BEGIN:VEVENT
UID:0ba1b781-e5e3-485f-aae1-7fffff929f06
DTSTAMP:20260420T230015Z
CATEGORIES:Gemeindeleben
CLASS:PUBLIC
DESCRIPTION:
DTSTART:20260405T060000Z
DTEND:20260405T060000Z
GEO:00;0
LOCATION:
ORGANIZER:
SEQUENCE:1
SUMMARY:Osterfrühstück in Schlotheim
TRANSP:OPAQUE
URL:https://cms.helbe-notter.de/index.php/component/icagenda/491-osterfr%C3
 %BChst%C3%BCck-in-schlotheim-2/2026-04-05-08-00?Itemid=101&iccaldate=2006-
 04-1
END:VEVENT
END:VCALENDAR
