BEGIN:VCALENDAR
VERSION:2.0
PRODID:-//Kirche Helbe-Notter//NONSGML kigkonsult.se iCalcreator 2.30.10//
CALSCALE:GREGORIAN
METHOD:PUBLISH
UID:ed197031-5550-4cc5-b2a4-c77695865569
X-WR-CALNAME:iCagenda
X-WR-CALDESC:Event Management Extension for Joomla!
X-WR-RELCALID:3E26604A-50F4-4449-8B3E-E4F4932D05B5
X-WR-TIMEZONE:Europe/Berlin
BEGIN:VTIMEZONE
TZID:Europe/Berlin
BEGIN:STANDARD
TZNAME:CET
DTSTART:20251026T030000
TZOFFSETFROM:+0200
TZOFFSETTO:+0100
RDATE:20261025T030000
END:STANDARD
BEGIN:DAYLIGHT
TZNAME:CEST
DTSTART:20260329T020000
TZOFFSETFROM:+0100
TZOFFSETTO:+0200
RDATE:20270328T020000
END:DAYLIGHT
END:VTIMEZONE
BEGIN:VEVENT
UID:cd418b4c-927c-46ab-bea0-495ca64297d5
DTSTAMP:20260421T104244Z
CATEGORIES:Andacht
CLASS:PUBLIC
DESCRIPTION:
DTSTART:20260403T080000Z
DTEND:20260403T080000Z
GEO:00;0
LOCATION:
ORGANIZER:
SEQUENCE:1
SUMMARY:Andacht zum Start des Kreuzweg in Mehrstedt
TRANSP:OPAQUE
URL:https://cms.helbe-notter.de/index.php/component/icagenda/485-andacht-zu
 m-start-des-kreuzweg-in-mehrstedt/2026-04-03-10-00?Itemid=101
END:VEVENT
END:VCALENDAR
