BEGIN:VCALENDAR
VERSION:2.0
PRODID:-//Kirche Helbe-Notter//NONSGML kigkonsult.se iCalcreator 2.30.10//
CALSCALE:GREGORIAN
METHOD:PUBLISH
UID:b2f0a028-5236-4e9c-bec9-06092268338d
X-WR-CALNAME:iCagenda
X-WR-CALDESC:Event Management Extension for Joomla!
X-WR-RELCALID:3E26604A-50F4-4449-8B3E-E4F4932D05B5
X-WR-TIMEZONE:Europe/Berlin
BEGIN:VTIMEZONE
TZID:Europe/Berlin
BEGIN:STANDARD
TZNAME:CET
DTSTART:20251026T030000
TZOFFSETFROM:+0200
TZOFFSETTO:+0100
RDATE:20261025T030000
END:STANDARD
BEGIN:DAYLIGHT
TZNAME:CEST
DTSTART:20250330T020000
TZOFFSETFROM:+0100
TZOFFSETTO:+0200
RDATE:20260329T020000
RDATE:20270328T020000
END:DAYLIGHT
END:VTIMEZONE
BEGIN:VEVENT
UID:e522f3ad-28ef-4146-a0b2-a352aec78d4a
DTSTAMP:20260420T131943Z
CATEGORIES:Gottesdienste
CLASS:PUBLIC
DESCRIPTION:
DTSTART:20260201T130000Z
DTEND:20260201T130000Z
GEO:00;0
LOCATION:
ORGANIZER:
SEQUENCE:1
SUMMARY:Gottesdienst in Mehrstedt
TRANSP:OPAQUE
URL:https://cms.helbe-notter.de/index.php/component/icagenda/433-adventskra
 nzandacht-in-der-kirche-mehrstedt/2026-02-01-14-00?Itemid=101&iccaldate=20
 21-12-1
END:VEVENT
END:VCALENDAR
