BEGIN:VCALENDAR
VERSION:2.0
PRODID:-//Kirche Helbe-Notter//NONSGML kigkonsult.se iCalcreator 2.30.10//
CALSCALE:GREGORIAN
METHOD:PUBLISH
UID:42c94d19-2401-40fc-824e-adf9a3cd727e
X-WR-CALNAME:iCagenda
X-WR-CALDESC:Event Management Extension for Joomla!
X-WR-RELCALID:3E26604A-50F4-4449-8B3E-E4F4932D05B5
X-WR-TIMEZONE:Europe/Berlin
BEGIN:VTIMEZONE
TZID:Europe/Berlin
BEGIN:STANDARD
TZNAME:CET
DTSTART:20241027T030000
TZOFFSETFROM:+0200
TZOFFSETTO:+0100
RDATE:20251026T030000
RDATE:20261025T030000
END:STANDARD
BEGIN:DAYLIGHT
TZNAME:CEST
DTSTART:20250330T020000
TZOFFSETFROM:+0100
TZOFFSETTO:+0200
RDATE:20260329T020000
END:DAYLIGHT
END:VTIMEZONE
BEGIN:VEVENT
UID:d0205593-0246-47d5-9cfc-a4ad77eecd8f
DTSTAMP:20260421T010957Z
CATEGORIES:Gemeindeleben
CLASS:PUBLIC
DESCRIPTION:
DTSTART:20250807T180000Z
DTEND:20250807T180000Z
GEO:00;0
LOCATION:Gemeindehaus Großmehlra
ORGANIZER:
SEQUENCE:1
SUMMARY:Hauskreis in Großmehlra im Gemeindehaus
TRANSP:OPAQUE
URL:https://cms.helbe-notter.de/index.php/component/icagenda/353-hauskreis-
 in-gro%C3%9Fmehlra-im-gemeindehaus/2025-08-07-20-00?Itemid=101&iccaldate=2
 016-04-1
END:VEVENT
END:VCALENDAR
