BEGIN:VCALENDAR
VERSION:2.0
PRODID:-//Kirche Helbe-Notter//NONSGML kigkonsult.se iCalcreator 2.30.10//
CALSCALE:GREGORIAN
METHOD:PUBLISH
UID:500314c3-8526-42b0-8d3b-d982652c7e2b
X-WR-CALNAME:iCagenda
X-WR-CALDESC:Event Management Extension for Joomla!
X-WR-RELCALID:3E26604A-50F4-4449-8B3E-E4F4932D05B5
X-WR-TIMEZONE:Europe/Berlin
BEGIN:VTIMEZONE
TZID:Europe/Berlin
BEGIN:STANDARD
TZNAME:CET
DTSTART:20231029T030000
TZOFFSETFROM:+0200
TZOFFSETTO:+0100
RDATE:20241027T030000
RDATE:20251026T030000
END:STANDARD
BEGIN:DAYLIGHT
TZNAME:CEST
DTSTART:20240331T020000
TZOFFSETFROM:+0100
TZOFFSETTO:+0200
RDATE:20250330T020000
RDATE:20260329T020000
END:DAYLIGHT
END:VTIMEZONE
BEGIN:VEVENT
UID:78b8ab32-cc8e-4dbb-98c8-61a18575865d
DTSTAMP:20260420T161747Z
CATEGORIES:Gremien
CLASS:PUBLIC
DESCRIPTION:
DTSTART:20241018T163000Z
DTEND:20241018T163000Z
GEO:00;0
LOCATION:Gemeindehaus Großmehlra
ORGANIZER;CN=:alfons@burhenne-web.de
SEQUENCE:1
SUMMARY:Kirchenältesten-Sitzung in Großmehlra
TRANSP:OPAQUE
URL:https://cms.helbe-notter.de/index.php/component/icagenda/34-kirchen-ael
 testen-sitzung-in-grossmehlra/2024-10-18-18-30?Itemid=101&iccaldate=2028-0
 7-1
END:VEVENT
END:VCALENDAR
