BEGIN:VCALENDAR
VERSION:2.0
PRODID:-//Kirche Helbe-Notter//NONSGML kigkonsult.se iCalcreator 2.30.10//
CALSCALE:GREGORIAN
METHOD:PUBLISH
UID:7759a478-424a-4ff8-96b9-041bff50a530
X-WR-CALNAME:iCagenda
X-WR-CALDESC:Event Management Extension for Joomla!
X-WR-RELCALID:3E26604A-50F4-4449-8B3E-E4F4932D05B5
X-WR-TIMEZONE:Europe/Berlin
BEGIN:VTIMEZONE
TZID:Europe/Berlin
BEGIN:STANDARD
TZNAME:CET
DTSTART:20231029T030000
TZOFFSETFROM:+0200
TZOFFSETTO:+0100
RDATE:20241027T030000
END:STANDARD
BEGIN:DAYLIGHT
TZNAME:CEST
DTSTART:20230326T020000
TZOFFSETFROM:+0100
TZOFFSETTO:+0200
RDATE:20240331T020000
RDATE:20250330T020000
END:DAYLIGHT
END:VTIMEZONE
BEGIN:VEVENT
UID:56c89b7f-f45d-4388-adf1-8f1c7610e71d
DTSTAMP:20260420T085312Z
CATEGORIES:Gemeindeleben
CLASS:PUBLIC
DESCRIPTION:
DTSTART:20240307T133000Z
DTEND:20240307T133000Z
GEO:00;0
LOCATION:
ORGANIZER:
SEQUENCE:1
SUMMARY:Senioren-Kreis in Großmehlra
TRANSP:OPAQUE
URL:https://cms.helbe-notter.de/index.php/component/icagenda/33-senioren-kr
 eis-in-grossmehlra/2024-03-07-14-30?Itemid=101&iccaldate=2025-12-1
END:VEVENT
END:VCALENDAR
