BEGIN:VCALENDAR
VERSION:2.0
PRODID:-//Kirche Helbe-Notter//NONSGML kigkonsult.se iCalcreator 2.30.10//
CALSCALE:GREGORIAN
METHOD:PUBLISH
UID:b849fb0d-b359-4135-8144-6fe43d2af5af
X-WR-CALNAME:iCagenda
X-WR-CALDESC:Event Management Extension for Joomla!
X-WR-RELCALID:3E26604A-50F4-4449-8B3E-E4F4932D05B5
X-WR-TIMEZONE:Europe/Berlin
BEGIN:VTIMEZONE
TZID:Europe/Berlin
BEGIN:STANDARD
TZNAME:CET
DTSTART:20241027T030000
TZOFFSETFROM:+0200
TZOFFSETTO:+0100
RDATE:20251026T030000
RDATE:20261025T030000
END:STANDARD
BEGIN:DAYLIGHT
TZNAME:CEST
DTSTART:20250330T020000
TZOFFSETFROM:+0100
TZOFFSETTO:+0200
RDATE:20260329T020000
END:DAYLIGHT
END:VTIMEZONE
BEGIN:VEVENT
UID:2e7c9a09-c6d8-4b47-a3ec-0b56cafa48d0
DTSTAMP:20260421T131657Z
CATEGORIES:Gemeindeleben
CLASS:PUBLIC
DESCRIPTION:
DTSTART:20250513T123000Z
DTEND:20250513T123000Z
GEO:00;0
LOCATION:
ORGANIZER:
SEQUENCE:1
SUMMARY:Ü- 60 in Schlotheim
TRANSP:OPAQUE
URL:https://cms.helbe-notter.de/index.php/component/icagenda/283-%C3%BC-60-
 in-schlotheim/2025-05-13-14-30?Itemid=101&iccaldate=2023-1-1
END:VEVENT
END:VCALENDAR
