BEGIN:VCALENDAR
VERSION:2.0
PRODID:-//Kirche Helbe-Notter//NONSGML kigkonsult.se iCalcreator 2.30.10//
CALSCALE:GREGORIAN
METHOD:PUBLISH
UID:6efa732b-4f30-4746-bc55-9b9ce150f805
X-WR-CALNAME:iCagenda
X-WR-CALDESC:Event Management Extension for Joomla!
X-WR-RELCALID:3E26604A-50F4-4449-8B3E-E4F4932D05B5
X-WR-TIMEZONE:Europe/Berlin
BEGIN:VTIMEZONE
TZID:Europe/Berlin
BEGIN:STANDARD
TZNAME:CET
DTSTART:20251026T030000
TZOFFSETFROM:+0200
TZOFFSETTO:+0100
RDATE:20261025T030000
END:STANDARD
BEGIN:DAYLIGHT
TZNAME:CEST
DTSTART:20260329T020000
TZOFFSETFROM:+0100
TZOFFSETTO:+0200
RDATE:20270328T020000
END:DAYLIGHT
END:VTIMEZONE
BEGIN:VEVENT
UID:807c4ee0-6a5c-4888-8c01-eb3518db8e70
DTSTAMP:20260421T130832Z
CATEGORIES:Gottesdienste
CLASS:PUBLIC
DESCRIPTION:
DTSTART:20260406T080000Z
DTEND:20260406T080000Z
GEO:00;0
LOCATION:
ORGANIZER:
SEQUENCE:1
SUMMARY:Gottesdient in Ebeleben
TRANSP:OPAQUE
URL:https://cms.helbe-notter.de/index.php/component/icagenda/215-gottesdien
 t-in-ebeleben/2026-04-06-10-00?Itemid=101&iccaldate=2050-05-1
END:VEVENT
END:VCALENDAR
