BEGIN:VCALENDAR
VERSION:2.0
PRODID:-//Kirche Helbe-Notter//NONSGML kigkonsult.se iCalcreator 2.30.10//
CALSCALE:GREGORIAN
METHOD:PUBLISH
UID:51dcf9a7-fdf4-4c9d-b990-ae0c8f9f16e7
X-WR-CALNAME:iCagenda
X-WR-CALDESC:Event Management Extension for Joomla!
X-WR-RELCALID:3E26604A-50F4-4449-8B3E-E4F4932D05B5
X-WR-TIMEZONE:Europe/Berlin
BEGIN:VTIMEZONE
TZID:Europe/Berlin
BEGIN:STANDARD
TZNAME:CET
DTSTART:20241027T030000
TZOFFSETFROM:+0200
TZOFFSETTO:+0100
RDATE:20251026T030000
RDATE:20261025T030000
END:STANDARD
BEGIN:DAYLIGHT
TZNAME:CEST
DTSTART:20250330T020000
TZOFFSETFROM:+0100
TZOFFSETTO:+0200
RDATE:20260329T020000
RDATE:20270328T020000
END:DAYLIGHT
END:VTIMEZONE
BEGIN:VEVENT
UID:207ac4bc-5d76-4634-b71e-4c67ed16edc5
DTSTAMP:20260420T154939Z
CATEGORIES:Konfirmanden
CLASS:PUBLIC
DESCRIPTION:
DTSTART:20251023T141500Z
DTEND:20251023T141500Z
GEO:00;0
LOCATION:
ORGANIZER:
SEQUENCE:1
SUMMARY:Vorkonfirmanden-Unterricht
TRANSP:OPAQUE
URL:https://cms.helbe-notter.de/index.php/component/icagenda/208-vorkonfirm
 anden-unterricht/2025-10-23-16-15?Itemid=101&iccaldate=2029-07-1
END:VEVENT
END:VCALENDAR
